BEGIN:VCALENDAR
VERSION:2.0
PRODID:-// - ECPv6.15.20//NONSGML v1.0//EN
CALSCALE:GREGORIAN
METHOD:PUBLISH
X-ORIGINAL-URL:https://dorfladen-eberstadt.de
X-WR-CALDESC:Veranstaltungen für 
REFRESH-INTERVAL;VALUE=DURATION:PT1H
X-Robots-Tag:noindex
X-PUBLISHED-TTL:PT1H
BEGIN:VTIMEZONE
TZID:Europe/Berlin
BEGIN:DAYLIGHT
TZOFFSETFROM:+0100
TZOFFSETTO:+0200
TZNAME:CEST
DTSTART:20240331T010000
END:DAYLIGHT
BEGIN:STANDARD
TZOFFSETFROM:+0200
TZOFFSETTO:+0100
TZNAME:CET
DTSTART:20241027T010000
END:STANDARD
BEGIN:DAYLIGHT
TZOFFSETFROM:+0100
TZOFFSETTO:+0200
TZNAME:CEST
DTSTART:20250330T010000
END:DAYLIGHT
BEGIN:STANDARD
TZOFFSETFROM:+0200
TZOFFSETTO:+0100
TZNAME:CET
DTSTART:20251026T010000
END:STANDARD
BEGIN:DAYLIGHT
TZOFFSETFROM:+0100
TZOFFSETTO:+0200
TZNAME:CEST
DTSTART:20260329T010000
END:DAYLIGHT
BEGIN:STANDARD
TZOFFSETFROM:+0200
TZOFFSETTO:+0100
TZNAME:CET
DTSTART:20261025T010000
END:STANDARD
END:VTIMEZONE
BEGIN:VEVENT
DTSTART;TZID=Europe/Berlin:20251121T190000
DTEND;TZID=Europe/Berlin:20251121T223000
DTSTAMP:20260425T143819
CREATED:20251102T224753Z
LAST-MODIFIED:20251110T211458Z
UID:2123-1763751600-1763764200@dorfladen-eberstadt.de
SUMMARY:Ausstellung:  "Wenn Papier mit Draht spielt" von Ursula Rickert-Rieb
DESCRIPTION:Wenn Papier mit Draht spielt \nMeine „drahtigen Figuren“ forme ich aus Draht und Papier. Wenn das dünne Papier in seinem biegsamen Drahtgerüst trocknet\, entwickeln die Figuren ein Eigenleben\, das ihnen ihre endgültige Form gibt und oft auch für mich überraschende Nuancen schafft. \nInspiriert durch ein Filmplakat entstand 1999 die erste Figur. Die Freude beim Entstehen dieser ersten Figur ist geblieben und die ständige Weiterentwicklung führte zu meiner ganz eigenen Ausdrucksform. \nAlle Figuren sind auf das Wesentliche reduziert. Jedoch sind einige mit überraschenden Details versehen. \nFür meine Stadtfrauen habe ich eine Kollektion Handtäschchen entworfen. So können sie ganz nach dem Geschmack der Betrachterin oder des Betrachters mit einer passenden Handtasche ausgestattet werden. \nMeine jüngste Kreation sind aus metallenen\, spiralförmigen Bettfedern herausspringende Wesen. Ein Teufelchen zum Beispiel\, das seinen Hut zieht und seine Hörner offenbart. \ndrahtige-figuren.de \n  \nAustellung: 17.011.2025 bis 11.01.2026 \nVernissage\, am 21.11.2025 um 19:00 Uhr \nEintritt frei \n 
URL:https://dorfladen-eberstadt.de/veranstaltung/ausstellung-wenn-papier-mit-draht-spielt-von-uschi-rieckert-rieb
CATEGORIES:Kunst und Kultur
ATTACH;FMTTYPE=image/jpeg:https://dorfladen-eberstadt.de/wp-content/uploads/2025/11/Tanzende_s.jpg
END:VEVENT
END:VCALENDAR