BEGIN:VCALENDAR
VERSION:2.0
PRODID:-// - ECPv6.15.20//NONSGML v1.0//EN
CALSCALE:GREGORIAN
METHOD:PUBLISH
X-ORIGINAL-URL:https://dorfladen-eberstadt.de
X-WR-CALDESC:Veranstaltungen für 
REFRESH-INTERVAL;VALUE=DURATION:PT1H
X-Robots-Tag:noindex
X-PUBLISHED-TTL:PT1H
BEGIN:VTIMEZONE
TZID:Europe/Berlin
BEGIN:DAYLIGHT
TZOFFSETFROM:+0100
TZOFFSETTO:+0200
TZNAME:CEST
DTSTART:20250330T010000
END:DAYLIGHT
BEGIN:STANDARD
TZOFFSETFROM:+0200
TZOFFSETTO:+0100
TZNAME:CET
DTSTART:20251026T010000
END:STANDARD
BEGIN:DAYLIGHT
TZOFFSETFROM:+0100
TZOFFSETTO:+0200
TZNAME:CEST
DTSTART:20260329T010000
END:DAYLIGHT
BEGIN:STANDARD
TZOFFSETFROM:+0200
TZOFFSETTO:+0100
TZNAME:CET
DTSTART:20261025T010000
END:STANDARD
BEGIN:DAYLIGHT
TZOFFSETFROM:+0100
TZOFFSETTO:+0200
TZNAME:CEST
DTSTART:20270328T010000
END:DAYLIGHT
BEGIN:STANDARD
TZOFFSETFROM:+0200
TZOFFSETTO:+0100
TZNAME:CET
DTSTART:20271031T010000
END:STANDARD
END:VTIMEZONE
BEGIN:VEVENT
DTSTART;TZID=Europe/Berlin:20260114T193000
DTEND;TZID=Europe/Berlin:20260114T223000
DTSTAMP:20260425T143651
CREATED:20260104T222830Z
LAST-MODIFIED:20260104T225642Z
UID:2166-1768419000-1768429800@dorfladen-eberstadt.de
SUMMARY:Midde in de Woch':  "ich liebe Mathematik"
DESCRIPTION:Wir starten voll durch ins Jahr 2026.\nUnsere Veranstaltungsreihe „Midde´ in de Woch´“ beginnt am 14.01. mit einem hochkarätigen Ereignis. \nProfessor Beutelspacher vom Gießener Mathematikum ist zu Gast. \nDie Veranstaltung ist bereits ausverkauft! \n  \nAnmeldung erforderlich! Persönlich im Laden während der Öffnungszeiten oder per e-Mail an unsere events@ Adresse\nDer Eintritt beträgt 8\,- €. \n 
URL:https://dorfladen-eberstadt.de/veranstaltung/midde-in-de-woch-ich-liebe-mathematik
CATEGORIES:Midde-in-de-Woch
ATTACH;FMTTYPE=image/png:https://dorfladen-eberstadt.de/wp-content/uploads/2026/01/Midde-in-de-Woch-Januar-2026.png
END:VEVENT
END:VCALENDAR