BEGIN:VCALENDAR
VERSION:2.0
PRODID:-// - ECPv6.15.20//NONSGML v1.0//EN
CALSCALE:GREGORIAN
METHOD:PUBLISH
X-ORIGINAL-URL:https://dorfladen-eberstadt.de
X-WR-CALDESC:Veranstaltungen für 
REFRESH-INTERVAL;VALUE=DURATION:PT1H
X-Robots-Tag:noindex
X-PUBLISHED-TTL:PT1H
BEGIN:VTIMEZONE
TZID:Europe/Berlin
BEGIN:DAYLIGHT
TZOFFSETFROM:+0100
TZOFFSETTO:+0200
TZNAME:CEST
DTSTART:20250330T010000
END:DAYLIGHT
BEGIN:STANDARD
TZOFFSETFROM:+0200
TZOFFSETTO:+0100
TZNAME:CET
DTSTART:20251026T010000
END:STANDARD
BEGIN:DAYLIGHT
TZOFFSETFROM:+0100
TZOFFSETTO:+0200
TZNAME:CEST
DTSTART:20260329T010000
END:DAYLIGHT
BEGIN:STANDARD
TZOFFSETFROM:+0200
TZOFFSETTO:+0100
TZNAME:CET
DTSTART:20261025T010000
END:STANDARD
BEGIN:DAYLIGHT
TZOFFSETFROM:+0100
TZOFFSETTO:+0200
TZNAME:CEST
DTSTART:20270328T010000
END:DAYLIGHT
BEGIN:STANDARD
TZOFFSETFROM:+0200
TZOFFSETTO:+0100
TZNAME:CET
DTSTART:20271031T010000
END:STANDARD
END:VTIMEZONE
BEGIN:VEVENT
DTSTART;TZID=Europe/Berlin:20260320T190000
DTEND;TZID=Europe/Berlin:20260320T223000
DTSTAMP:20260423T184222
CREATED:20260310T213609Z
LAST-MODIFIED:20260310T214853Z
UID:2220-1774033200-1774045800@dorfladen-eberstadt.de
SUMMARY:Vernissage:  "Vom Wesen der Dinge" von Conni vom Hofe
DESCRIPTION:Conni vom Hofe ist als Kunsterzieherin im Ruhestand als Künstlerin aber weiterhin sehr aktiv.\nIhre Bandbreite an Techniken (Acrylmalerei\, Zeichnungen\, Keramik und Buchbinderei) und Themen ist groß.\nDas Genre Stillleben\, in dem Augenschmaus und intellektuelle Herausforderung eine Allianz eingehen\, hat sie schon als Jugendliche fasziniert.\nNach ihrer Pensionierung fand sie endlich Zeit\, die altmeisterliche\, aufwändige Technik der Öl- Lasurmalerei zu erlernen.\nIhre Bilder stehen in der Tradition barocker Stillleben\, d.h. die Dinge sagen uns mehr\, als ihre Bezeichnung. Sie laden zum Denken ein\, lassen BetrachterInnen aber auch die Freiheit\, sie einfach nur schön zu finden. \n\nDie Vernissage findet am 20 013.2026 um 19:00 Uhr statt.\nDie Ausstellung ist vom 16.03. bis03.05.2026 im Dorfladen zu sehen. \nEintritt frei \n 
URL:https://dorfladen-eberstadt.de/veranstaltung/vernissage-conni-vom-hofe
CATEGORIES:Kunst und Kultur
ATTACH;FMTTYPE=image/jpeg:https://dorfladen-eberstadt.de/wp-content/uploads/2026/03/ConnyVomHofeIMG_20260202_134652_34.jpg
END:VEVENT
END:VCALENDAR